BEGIN:VCALENDAR
VERSION:2.0
PRODID:-//Team Interrupters, Inc. - ECPv6.15.20//NONSGML v1.0//EN
CALSCALE:GREGORIAN
METHOD:PUBLISH
X-ORIGINAL-URL:https://teaminterrupters.org
X-WR-CALDESC:Events for Team Interrupters, Inc.
REFRESH-INTERVAL;VALUE=DURATION:PT1H
X-Robots-Tag:noindex
X-PUBLISHED-TTL:PT1H
BEGIN:VTIMEZONE
TZID:America/New_York
BEGIN:DAYLIGHT
TZOFFSETFROM:-0500
TZOFFSETTO:-0400
TZNAME:EDT
DTSTART:20180311T070000
END:DAYLIGHT
BEGIN:STANDARD
TZOFFSETFROM:-0400
TZOFFSETTO:-0500
TZNAME:EST
DTSTART:20181104T060000
END:STANDARD
BEGIN:DAYLIGHT
TZOFFSETFROM:-0500
TZOFFSETTO:-0400
TZNAME:EDT
DTSTART:20190310T070000
END:DAYLIGHT
BEGIN:STANDARD
TZOFFSETFROM:-0400
TZOFFSETTO:-0500
TZNAME:EST
DTSTART:20191103T060000
END:STANDARD
BEGIN:DAYLIGHT
TZOFFSETFROM:-0500
TZOFFSETTO:-0400
TZNAME:EDT
DTSTART:20200308T070000
END:DAYLIGHT
BEGIN:STANDARD
TZOFFSETFROM:-0400
TZOFFSETTO:-0500
TZNAME:EST
DTSTART:20201101T060000
END:STANDARD
END:VTIMEZONE
BEGIN:VTIMEZONE
TZID:UTC
BEGIN:STANDARD
TZOFFSETFROM:+0000
TZOFFSETTO:+0000
TZNAME:UTC
DTSTART:20180101T000000
END:STANDARD
END:VTIMEZONE
BEGIN:VEVENT
DTSTART;TZID=America/New_York:20190818T120000
DTEND;TZID=America/New_York:20190818T180000
DTSTAMP:20260423T172406
CREATED:20190724T184232Z
LAST-MODIFIED:20190730T180733Z
UID:2367-1566129600-1566151200@teaminterrupters.org
SUMMARY:"It Takes a Village" - Kickball and BBQ
DESCRIPTION:
URL:https://teaminterrupters.org/event/it-takes-a-village/
LOCATION:Brophy Fields\, 268-320 3rd St.\, Elizabeth\, NJ 07201
END:VEVENT
BEGIN:VEVENT
DTSTART;TZID=UTC:20190803T130000
DTEND;TZID=UTC:20190803T150000
DTSTAMP:20260423T172406
CREATED:20190730T182725Z
LAST-MODIFIED:20190730T182725Z
UID:2434-1564837200-1564844400@teaminterrupters.org
SUMMARY:READY Youth Mentoring Program
DESCRIPTION:
URL:https://teaminterrupters.org/event/ready-youth-mentoring-program/
LOCATION:160 Madison Ave.\, Elizabeth\, NJ 07201
END:VEVENT
BEGIN:VEVENT
DTSTART;TZID=America/New_York:20190721T080000
DTEND;TZID=America/New_York:20190721T100000
DTSTAMP:20260423T172407
CREATED:20190710T153452Z
LAST-MODIFIED:20190710T153452Z
UID:2117-1563696000-1563703200@teaminterrupters.org
SUMMARY:Applebee's Fundraiser
DESCRIPTION:
URL:https://teaminterrupters.org/event/applebees-fundraiser/
LOCATION:Applebee’s at The Mills at Jersey Gardens
CATEGORIES:Current Events
END:VEVENT
END:VCALENDAR